BEGIN:VCALENDAR
VERSION:2.0
PRODID:-//Verband Wohneigentum Siedlergemeinschaft Singen e.V. - ECPv6.15.20//NONSGML v1.0//EN
CALSCALE:GREGORIAN
METHOD:PUBLISH
X-WR-CALNAME:Verband Wohneigentum Siedlergemeinschaft Singen e.V.
X-ORIGINAL-URL:https://sg-singen.de
X-WR-CALDESC:Veranstaltungen für Verband Wohneigentum Siedlergemeinschaft Singen e.V.
REFRESH-INTERVAL;VALUE=DURATION:PT1H
X-Robots-Tag:noindex
X-PUBLISHED-TTL:PT1H
BEGIN:VTIMEZONE
TZID:Europe/Berlin
BEGIN:DAYLIGHT
TZOFFSETFROM:+0100
TZOFFSETTO:+0200
TZNAME:CEST
DTSTART:20240331T010000
END:DAYLIGHT
BEGIN:STANDARD
TZOFFSETFROM:+0200
TZOFFSETTO:+0100
TZNAME:CET
DTSTART:20241027T010000
END:STANDARD
BEGIN:DAYLIGHT
TZOFFSETFROM:+0100
TZOFFSETTO:+0200
TZNAME:CEST
DTSTART:20250330T010000
END:DAYLIGHT
BEGIN:STANDARD
TZOFFSETFROM:+0200
TZOFFSETTO:+0100
TZNAME:CET
DTSTART:20251026T010000
END:STANDARD
BEGIN:DAYLIGHT
TZOFFSETFROM:+0100
TZOFFSETTO:+0200
TZNAME:CEST
DTSTART:20260329T010000
END:DAYLIGHT
BEGIN:STANDARD
TZOFFSETFROM:+0200
TZOFFSETTO:+0100
TZNAME:CET
DTSTART:20261025T010000
END:STANDARD
END:VTIMEZONE
BEGIN:VEVENT
DTSTART;TZID=Europe/Berlin:20250517T120000
DTEND;TZID=Europe/Berlin:20250517T160000
DTSTAMP:20260425T185428
CREATED:20240628T043749Z
LAST-MODIFIED:20250313T192736Z
UID:1046-1747483200-1747497600@sg-singen.de
SUMMARY:Markt der Möglichkeiten
DESCRIPTION:An diesem Tag stellen sich Schulen\, Organisationen\, Gruppen oder Interessengemeinschaften aus Ihrer Nähe vor. Für Speis & Trank ist gesorgt\, während Sie Aufführungen und Darbietungen genießen können.  \n\n\n\nWir freuen uns auf Ihr kommen!
URL:https://sg-singen.de/event/markt-der-moeglichkeiten/
LOCATION:Vereinsheim „Begegnungsstätte Siedlerheim“\, Worblinger Str. 67\, Singen\, BW\, 78224\, Deutschland
CATEGORIES:Extern
ORGANIZER;CN="Die Siedlergemeinschaft":MAILTO:briefkasten@sg-singen.de
END:VEVENT
END:VCALENDAR