BEGIN:VCALENDAR
VERSION:2.0
PRODID:-//Verband Wohneigentum Siedlergemeinschaft Singen e.V. - ECPv6.15.20//NONSGML v1.0//EN
CALSCALE:GREGORIAN
METHOD:PUBLISH
X-WR-CALNAME:Verband Wohneigentum Siedlergemeinschaft Singen e.V.
X-ORIGINAL-URL:https://sg-singen.de
X-WR-CALDESC:Veranstaltungen für Verband Wohneigentum Siedlergemeinschaft Singen e.V.
REFRESH-INTERVAL;VALUE=DURATION:PT1H
X-Robots-Tag:noindex
X-PUBLISHED-TTL:PT1H
BEGIN:VTIMEZONE
TZID:Europe/Berlin
BEGIN:DAYLIGHT
TZOFFSETFROM:+0100
TZOFFSETTO:+0200
TZNAME:CEST
DTSTART:20240331T010000
END:DAYLIGHT
BEGIN:STANDARD
TZOFFSETFROM:+0200
TZOFFSETTO:+0100
TZNAME:CET
DTSTART:20241027T010000
END:STANDARD
BEGIN:DAYLIGHT
TZOFFSETFROM:+0100
TZOFFSETTO:+0200
TZNAME:CEST
DTSTART:20250330T010000
END:DAYLIGHT
BEGIN:STANDARD
TZOFFSETFROM:+0200
TZOFFSETTO:+0100
TZNAME:CET
DTSTART:20251026T010000
END:STANDARD
BEGIN:DAYLIGHT
TZOFFSETFROM:+0100
TZOFFSETTO:+0200
TZNAME:CEST
DTSTART:20260329T010000
END:DAYLIGHT
BEGIN:STANDARD
TZOFFSETFROM:+0200
TZOFFSETTO:+0100
TZNAME:CET
DTSTART:20261025T010000
END:STANDARD
END:VTIMEZONE
BEGIN:VEVENT
DTSTART;TZID=Europe/Berlin:20251227T153000
DTEND;TZID=Europe/Berlin:20251227T200000
DTSTAMP:20260423T234049
CREATED:20241226T221232Z
LAST-MODIFIED:20251211T194003Z
UID:1097-1766849400-1766865600@sg-singen.de
SUMMARY:Backtag am Backhaus des Siedlerheims in Singen
DESCRIPTION:An unserem Backtag habt ihr die Möglichkeit\, gemeinsam mit anderen Backbegeisterten verschiedene Brote\, Brötchen und süße Leckereien zu backen. Egal\, ob ihr erfahrene Bäcker oder neugierige Anfänger seid – jeder ist herzlich willkommen!Neben dem Backen wird es auch die Gelegenheit geben\, sich auszutauschen\, neue Freundschaften zu schließen und die Gemeinschaft zu stärken. Eine Auswahl erfrischender Getränke für Groß und Klein stehen bereit. Wir freuen uns auf einen tollen Tag mit Euch und viele leckere Back- und Bratergebnisse!  Euer Team der Siedlergemeinschaft e.V. \n\n\n\nBackhaus der Siedlergemeinschaft Singen
URL:https://sg-singen.de/event/backtag-am-backhaus-des-siedlerheims-in-singen/
LOCATION:Vereinsheim „Begegnungsstätte Siedlerheim“\, Worblinger Str. 67\, Singen\, BW\, 78224\, Deutschland
ORGANIZER;CN="Die Siedlergemeinschaft":MAILTO:briefkasten@sg-singen.de
END:VEVENT
END:VCALENDAR