BEGIN:VCALENDAR
VERSION:2.0
PRODID:-//Verband Wohneigentum Siedlergemeinschaft Singen e.V. - ECPv6.15.20//NONSGML v1.0//EN
CALSCALE:GREGORIAN
METHOD:PUBLISH
X-ORIGINAL-URL:https://sg-singen.de
X-WR-CALDESC:Veranstaltungen für Verband Wohneigentum Siedlergemeinschaft Singen e.V.
REFRESH-INTERVAL;VALUE=DURATION:PT1H
X-Robots-Tag:noindex
X-PUBLISHED-TTL:PT1H
BEGIN:VTIMEZONE
TZID:Europe/Berlin
BEGIN:DAYLIGHT
TZOFFSETFROM:+0100
TZOFFSETTO:+0200
TZNAME:CEST
DTSTART:20240331T010000
END:DAYLIGHT
BEGIN:STANDARD
TZOFFSETFROM:+0200
TZOFFSETTO:+0100
TZNAME:CET
DTSTART:20241027T010000
END:STANDARD
BEGIN:DAYLIGHT
TZOFFSETFROM:+0100
TZOFFSETTO:+0200
TZNAME:CEST
DTSTART:20250330T010000
END:DAYLIGHT
BEGIN:STANDARD
TZOFFSETFROM:+0200
TZOFFSETTO:+0100
TZNAME:CET
DTSTART:20251026T010000
END:STANDARD
BEGIN:DAYLIGHT
TZOFFSETFROM:+0100
TZOFFSETTO:+0200
TZNAME:CEST
DTSTART:20260329T010000
END:DAYLIGHT
BEGIN:STANDARD
TZOFFSETFROM:+0200
TZOFFSETTO:+0100
TZNAME:CET
DTSTART:20261025T010000
END:STANDARD
END:VTIMEZONE
BEGIN:VEVENT
DTSTART;TZID=Europe/Berlin:20251212T180000
DTEND;TZID=Europe/Berlin:20251212T213000
DTSTAMP:20260423T235435
CREATED:20240913T053847Z
LAST-MODIFIED:20251211T194050Z
UID:1054-1765562400-1765575000@sg-singen.de
SUMMARY:Stammtisch der Siedlergemeinschaft Singen
DESCRIPTION:Stammtisch der Siedlergemeinschaft Singen e.V. \n\n\n\nLasst uns in gemütlicher Runde und interessanten Diskussionen\, ungezwungen das Wochenende einläutenGetränke sind vorhanden und für den Gaumenschmaus können wir uns ja gerne über den Chat „Kommentare“ im Vorfeld abstimmen.
URL:https://sg-singen.de/event/stammtisch-der-siedlergemeinschaft-singen-2/
LOCATION:Vereinsheim „Begegnungsstätte Siedlerheim“\, Worblinger Str. 67\, Singen\, BW\, 78224\, Deutschland
CATEGORIES:Stammtisch,Vereins intern
ORGANIZER;CN="Verband Wohneigentum Siedlergemeinschaft Singen e.V.":MAILTO:briefkasten@sg-singen.de
END:VEVENT
END:VCALENDAR