BEGIN:VCALENDAR
VERSION:2.0
PRODID:-//Verband Wohneigentum Siedlergemeinschaft Singen e.V. - ECPv6.15.20//NONSGML v1.0//EN
CALSCALE:GREGORIAN
METHOD:PUBLISH
X-ORIGINAL-URL:https://sg-singen.de
X-WR-CALDESC:Veranstaltungen für Verband Wohneigentum Siedlergemeinschaft Singen e.V.
REFRESH-INTERVAL;VALUE=DURATION:PT1H
X-Robots-Tag:noindex
X-PUBLISHED-TTL:PT1H
BEGIN:VTIMEZONE
TZID:Europe/Berlin
BEGIN:DAYLIGHT
TZOFFSETFROM:+0100
TZOFFSETTO:+0200
TZNAME:CEST
DTSTART:20240331T010000
END:DAYLIGHT
BEGIN:STANDARD
TZOFFSETFROM:+0200
TZOFFSETTO:+0100
TZNAME:CET
DTSTART:20241027T010000
END:STANDARD
BEGIN:DAYLIGHT
TZOFFSETFROM:+0100
TZOFFSETTO:+0200
TZNAME:CEST
DTSTART:20250330T010000
END:DAYLIGHT
BEGIN:STANDARD
TZOFFSETFROM:+0200
TZOFFSETTO:+0100
TZNAME:CET
DTSTART:20251026T010000
END:STANDARD
BEGIN:DAYLIGHT
TZOFFSETFROM:+0100
TZOFFSETTO:+0200
TZNAME:CEST
DTSTART:20260329T010000
END:DAYLIGHT
BEGIN:STANDARD
TZOFFSETFROM:+0200
TZOFFSETTO:+0100
TZNAME:CET
DTSTART:20261025T010000
END:STANDARD
END:VTIMEZONE
BEGIN:VEVENT
DTSTART;TZID=Europe/Berlin:20250419T150000
DTEND;TZID=Europe/Berlin:20250419T180000
DTSTAMP:20260425T221245
CREATED:20241226T221919Z
LAST-MODIFIED:20250405T082435Z
UID:1102-1745074800-1745085600@sg-singen.de
SUMMARY:außerordentliche Mitgliederversammlung
DESCRIPTION:Sehr geehrtes Mitglied\, \n\n\n\nhiermit laden wir Sie\Dich zu unserer außerordentlichen Mitgliederversammlung amSamstag\, den 19. April 2025 um 15:00 Uhr in derBegegnungsstätte Siedlerheim\, Worblinger Straße 67\, 78224 Singen (Htwl.)ein \n\n\n\nTagesordnungspunkte:1. Begrüßung\, Eröffnung und Feststellung der Beschlussfähigkeit2. Wahl eines Versammlungsleiters3. Vorstellung der Neusatzung4. Abstimmung über die Neusatzung5. Verschiedenes\, Fragen \n\n\n\nWir freuen uns auf eine rege Teilnahme. \n\n\n\nFür den VorstandChristian Siebold \n\n\n\nLink: Neufassung der Vereinssatzung
URL:https://sg-singen.de/event/ausserordentliche-mitgliederversammlung/
LOCATION:Vereinsheim „Begegnungsstätte Siedlerheim“\, Worblinger Str. 67\, Singen\, BW\, 78224\, Deutschland
CATEGORIES:Vereins intern
ORGANIZER;CN="Die Siedlergemeinschaft":MAILTO:briefkasten@sg-singen.de
END:VEVENT
END:VCALENDAR