BEGIN:VCALENDAR
VERSION:2.0
PRODID:-//Verband Wohneigentum Siedlergemeinschaft Singen e.V. - ECPv6.15.20//NONSGML v1.0//EN
CALSCALE:GREGORIAN
METHOD:PUBLISH
X-ORIGINAL-URL:https://sg-singen.de
X-WR-CALDESC:Veranstaltungen für Verband Wohneigentum Siedlergemeinschaft Singen e.V.
REFRESH-INTERVAL;VALUE=DURATION:PT1H
X-Robots-Tag:noindex
X-PUBLISHED-TTL:PT1H
BEGIN:VTIMEZONE
TZID:Europe/Berlin
BEGIN:DAYLIGHT
TZOFFSETFROM:+0100
TZOFFSETTO:+0200
TZNAME:CEST
DTSTART:20230326T010000
END:DAYLIGHT
BEGIN:STANDARD
TZOFFSETFROM:+0200
TZOFFSETTO:+0100
TZNAME:CET
DTSTART:20231029T010000
END:STANDARD
BEGIN:DAYLIGHT
TZOFFSETFROM:+0100
TZOFFSETTO:+0200
TZNAME:CEST
DTSTART:20240331T010000
END:DAYLIGHT
BEGIN:STANDARD
TZOFFSETFROM:+0200
TZOFFSETTO:+0100
TZNAME:CET
DTSTART:20241027T010000
END:STANDARD
BEGIN:DAYLIGHT
TZOFFSETFROM:+0100
TZOFFSETTO:+0200
TZNAME:CEST
DTSTART:20250330T010000
END:DAYLIGHT
BEGIN:STANDARD
TZOFFSETFROM:+0200
TZOFFSETTO:+0100
TZNAME:CET
DTSTART:20251026T010000
END:STANDARD
END:VTIMEZONE
BEGIN:VEVENT
DTSTART;TZID=Europe/Berlin:20241123T150000
DTEND;TZID=Europe/Berlin:20241123T180000
DTSTAMP:20260426T061632
CREATED:20241024T133252Z
LAST-MODIFIED:20241024T133253Z
UID:1059-1732374000-1732384800@sg-singen.de
SUMMARY:Jahreshauptversammlung
DESCRIPTION:Jedes Mitglied ist\, wie jedes Jahr\, herzlich zur Jahreshauptversammlung 2024 eingeladen.
URL:https://sg-singen.de/event/jahreshauptversammlung/
LOCATION:Vereinsheim „Begegnungsstätte Siedlerheim“\, Worblinger Str. 67\, Singen\, BW\, 78224\, Deutschland
ORGANIZER;CN="Verband Wohneigentum Siedlergemeinschaft Singen e.V.":MAILTO:briefkasten@sg-singen.de
END:VEVENT
END:VCALENDAR